BEGIN:VCALENDAR
VERSION:2.0
PRODID:-//Dollar a Month Fund - ECPv6.15.20//NONSGML v1.0//EN
CALSCALE:GREGORIAN
METHOD:PUBLISH
X-ORIGINAL-URL:https://www.dmfund.org
X-WR-CALDESC:Events for Dollar a Month Fund
REFRESH-INTERVAL;VALUE=DURATION:PT1H
X-Robots-Tag:noindex
X-PUBLISHED-TTL:PT1H
BEGIN:VTIMEZONE
TZID:UTC
BEGIN:STANDARD
TZOFFSETFROM:+0000
TZOFFSETTO:+0000
TZNAME:UTC
DTSTART:20180101T000000
END:STANDARD
END:VTIMEZONE
BEGIN:VTIMEZONE
TZID:America/Los_Angeles
BEGIN:DAYLIGHT
TZOFFSETFROM:-0800
TZOFFSETTO:-0700
TZNAME:PDT
DTSTART:20220313T100000
END:DAYLIGHT
BEGIN:STANDARD
TZOFFSETFROM:-0700
TZOFFSETTO:-0800
TZNAME:PST
DTSTART:20221106T090000
END:STANDARD
BEGIN:DAYLIGHT
TZOFFSETFROM:-0800
TZOFFSETTO:-0700
TZNAME:PDT
DTSTART:20230312T100000
END:DAYLIGHT
BEGIN:STANDARD
TZOFFSETFROM:-0700
TZOFFSETTO:-0800
TZNAME:PST
DTSTART:20231105T090000
END:STANDARD
BEGIN:DAYLIGHT
TZOFFSETFROM:-0800
TZOFFSETTO:-0700
TZNAME:PDT
DTSTART:20240310T100000
END:DAYLIGHT
BEGIN:STANDARD
TZOFFSETFROM:-0700
TZOFFSETTO:-0800
TZNAME:PST
DTSTART:20241103T090000
END:STANDARD
END:VTIMEZONE
BEGIN:VEVENT
DTSTART;TZID=UTC:20240518T190000
DTEND;TZID=UTC:20240518T220000
DTSTAMP:20260423T152816
CREATED:20240504T183621Z
LAST-MODIFIED:20240505T085931Z
UID:1758-1716058800-1716069600@www.dmfund.org
SUMMARY:Working Children Art Exhibition
DESCRIPTION:An Open  Invitation and Reception to an Art Exhibition by \nWorking Children of Tehran
URL:https://www.dmfund.org/events/working-children-art-exhibition/
LOCATION:Iranian-American Center (PCC)\, 6790 Top Gun St. #7\, San Diego\, CA\, 92121\, United States
CATEGORIES:Exhibition
ATTACH;FMTTYPE=image/jpeg:https://www.dmfund.org/wp-content/uploads/2024/05/PCC-Art-show-Payk-ad-Sq-4.22.24.jpg
ORGANIZER;CN="Dollar a Month Fund":MAILTO:info@dmfund.org
END:VEVENT
BEGIN:VEVENT
DTSTART;TZID=America/Los_Angeles:20230311T110000
DTEND;TZID=America/Los_Angeles:20230311T140000
DTSTAMP:20260423T152816
CREATED:20230221T034146Z
LAST-MODIFIED:20230222T045600Z
UID:1750-1678532400-1678543200@www.dmfund.org
SUMMARY:Annual Charity Norouz Bazaar
DESCRIPTION:Annual Charity Nowruz Bazaar\nSaturday\, March 11\, 2023\, 11:00 AM – 2:00 PM\nAnnual Nowruz Charity Bazaar to support children in need. \nWe will have homemade style sweets (Shiriniye Eid)\, Pickles (Torshi)\, Jams\, Haftseen items\, and food. \nIranian-American Center (PCC)\n6790 Top Gun St. #7\nSan Diego\, CA 92121 \nTo Reserve Display Tables:\nCall (858) 552-9355
URL:https://www.dmfund.org/events/annual-charity-norouz-bazaar-3/
LOCATION:Iranian-American Center (PCC)\, 6790 Top Gun St. #7\, San Diego\, CA\, 92121\, United States
CATEGORIES:Annual Charity Norouz Bazaar
ATTACH;FMTTYPE=image/jpeg:https://www.dmfund.org/wp-content/uploads/2023/02/Nowruz-DMF-V3-Landscape-Photo-e1676950852445.jpg
ORGANIZER;CN="Dollar a Month Fund":MAILTO:info@dmfund.org
END:VEVENT
BEGIN:VEVENT
DTSTART;TZID=UTC:20221106T130000
DTEND;TZID=UTC:20221106T160000
DTSTAMP:20260423T152816
CREATED:20221127T010125Z
LAST-MODIFIED:20221127T010125Z
UID:1732-1667739600-1667750400@www.dmfund.org
SUMMARY:6th Naragh Orchard Fundraiser
DESCRIPTION:Dear Family and Friends\,\nThis year\, due to circumstances\, we have canceled two fundraisers for our project 200 children.\nFunds are needed to support their education and nourishment and the skyrocketing costs do not help the situation.\nChildren are innocent victims of social injustice and we remain the lifeline for this particular group of kids.\nPlease take time to go to www.dmfund.org and support our drive and be there for them. Every dollar feeds and provides for a child for a day.\nFor those of you that are in the neighborhood\, come and join us at Naragh Orchard\, enjoy a beautiful Fall day and support our fundraiser while enjoying Anar and some other fruits and goodies.
URL:https://www.dmfund.org/events/6th-naragh-orchard-fundraiser/
LOCATION:Naragh Orchard\, 13408 Highlands Ranch Rd\, San Diego\, CA\, 92064\, United States
ATTACH;FMTTYPE=image/jpeg:https://www.dmfund.org/wp-content/uploads/2022/11/Naragh-Orchard-Fundraiser.jpg
ORGANIZER;CN="Dollar a Month Fund":MAILTO:info@dmfund.org
END:VEVENT
BEGIN:VEVENT
DTSTART;TZID=UTC:20220312T110000
DTEND;TZID=UTC:20220312T140000
DTSTAMP:20260423T152816
CREATED:20220228T063625Z
LAST-MODIFIED:20220228T100306Z
UID:1094-1647082800-1647093600@www.dmfund.org
SUMMARY:Annual Charity Norouz Bazaar
DESCRIPTION:Saturday\, March 12\, 2022\, 11AM – 2PM\n\n\n\nIranian-American Center (PCC)\n6790 Top Gun St. #7\nSan Diego\, 92121
URL:https://www.dmfund.org/events/annual-charity-norouz-bazaar/
LOCATION:Iranian-American Center (PCC)\, 6790 Top Gun St. #7\, San Diego\, CA\, 92121\, United States
CATEGORIES:Annual Charity Norouz Bazaar
ATTACH;FMTTYPE=image/png:https://www.dmfund.org/wp-content/uploads/2022/02/Annual-Charity-Norouz-Bazaar-1401.png
ORGANIZER;CN="Dollar a Month Fund":MAILTO:info@dmfund.org
END:VEVENT
BEGIN:VEVENT
DTSTART;TZID=UTC:20211107T140000
DTEND;TZID=UTC:20211107T170000
DTSTAMP:20260423T152816
CREATED:20220327T072100Z
LAST-MODIFIED:20220327T072100Z
UID:1459-1636293600-1636304400@www.dmfund.org
SUMMARY:5th Naragh Orchard Fundraiser
DESCRIPTION:Naraghi Family Present:\n5th Annual Fresh Pomegranate Sale\nSunday\, November 7\, 2021\, At 2-5 pm\n13408 Highlands Ranch Rd\, Poway\, CA 92064\nNaragh Orchard Annual Fundraiser for the benefit of Dollar a Month Fund. The proceeds of this event will provide education and food for children in need.
URL:https://www.dmfund.org/events/5th-naragh-orchard-fundraiser/
LOCATION:Naragh Orchard\, 13408 Highlands Ranch Rd\, San Diego\, CA\, 92064\, United States
CATEGORIES:Naragh Orchard Fundraiser
ATTACH;FMTTYPE=image/jpeg:https://www.dmfund.org/wp-content/uploads/2022/03/250326319_4614798875207816_3593809394778152815_n.jpg
END:VEVENT
BEGIN:VEVENT
DTSTART;TZID=UTC:20211031T150000
DTEND;TZID=UTC:20211031T170000
DTSTAMP:20260423T152816
CREATED:20220327T072340Z
LAST-MODIFIED:20220327T072340Z
UID:1463-1635692400-1635699600@www.dmfund.org
SUMMARY:Halloween Kids Outdoor Party
DESCRIPTION:Halloween Kids Outdoor Party\n\n\n\nDel Sur Ranch House\nSunday\, October 31\, 2021\, 3:00 PM\n\n\nJoin us for music by DJ Julius\, games\, characters\, dance\, treats\, costume competition\, and prizes\n\n\nTickets: $30 Adults\, $15 Children\nBuy your tickets at: www.dmfund.org
URL:https://www.dmfund.org/events/halloween-kids-outdoor-party/
LOCATION:CA
CATEGORIES:Halloween
ATTACH;FMTTYPE=image/png:https://www.dmfund.org/wp-content/uploads/2022/03/247853198_4594183247269379_3627303158581628397_n.png
END:VEVENT
BEGIN:VEVENT
DTSTART;TZID=UTC:20200314T110000
DTEND;TZID=UTC:20200314T150000
DTSTAMP:20260423T152816
CREATED:20220327T072655Z
LAST-MODIFIED:20220328T035030Z
UID:1466-1584183600-1584198000@www.dmfund.org
SUMMARY:Annual Charity Norouz Bazaar
DESCRIPTION:Thanks to all of those who have contributed to this project. We have cancelled our big Bazaar fundraiser due to health concerns for our dear community\, but this is an excellent way to still contribute during this time to kids who need help more than ever. Thank you 🙏🌸
URL:https://www.dmfund.org/events/annual-charity-norouz-bazaar-2/
LOCATION:Iranian-American Center (PCC)\, 6790 Top Gun St. #7\, San Diego\, CA\, 92121\, United States
CATEGORIES:Annual Charity Norouz Bazaar
ATTACH;FMTTYPE=image/png:https://www.dmfund.org/wp-content/uploads/2022/03/89785494_2933182450036142_8643840077992034304_n.png
END:VEVENT
BEGIN:VEVENT
DTSTART;TZID=UTC:20191027T170000
DTEND;TZID=UTC:20191027T170000
DTSTAMP:20260423T152816
CREATED:20220327T071008Z
LAST-MODIFIED:20220327T071050Z
UID:1450-1572195600-1572195600@www.dmfund.org
SUMMARY:Halloween Party & Dance
DESCRIPTION:Halloween Party & Dance\n\n\nDollar a Month Fund presents: \nHOLLOWEEN PARTY & DANCE! DANCE! DANCE! \nSunday\, October 27\, 2019\, 5 – 9 PM \nCome out to celebrate Halloween while raising money for an amazing cause! This event will benefit our global children in need of nutrition and education on four continents. \n DJ Mohsen\nSufi Mediterranean Cuisine\n5915 Balboa Avenue\, San Diego\, CA 92111 \nTickets:\n$40 Adults\n$25 Students with ID\n$20 Kids under 12\nwith Dinner\nSponsorships: We welcome your sponsorship and many thanks to the following sponsors:\nMahtab and Javid Javedani\nHasan and Nayer Samadi\nHossain and Esther Samadi\nBehrooz and Nasri (Owsia) Akbarnia\nSafar Farnam\nShahri Estakhry and Sara Aghassi\n$1000 Eight Free Tickets and Priority Seating\n$500 Four Free Tickets with Second Tier Priority Seating\n$250 Two Free Tickets with Third Tier Priority Seating \nFor more information\, please call 858-552-9355 \nWe will have dance and custome contest and prizes for winners!
URL:https://www.dmfund.org/events/halloween-party-dance/
LOCATION:Sufi Mediterranean Cuisine\, 5915 Balboa Avenue\, San Diego\, 92111\, United States
CATEGORIES:Halloween
ATTACH;FMTTYPE=image/png:https://www.dmfund.org/wp-content/uploads/2022/03/halloween-flyer-2019.png
ORGANIZER;CN="Dollar a Month Fund":MAILTO:info@dmfund.org
END:VEVENT
BEGIN:VEVENT
DTSTART;TZID=UTC:20190303T100000
DTEND;TZID=UTC:20190303T143000
DTSTAMP:20260423T152816
CREATED:20220327T071545Z
LAST-MODIFIED:20220327T071545Z
UID:1455-1551607200-1551623400@www.dmfund.org
SUMMARY:Annual Norouz Charity Bazaar
DESCRIPTION:Annual Norouz Charity Bazaar\n\n\n\nA day of fun activities to support children in need. We will have many homemade sweets and items\, eggs for painting\, Sabzeh and lots of food. This is always a fun event for the whole family to welcome Norouz.
URL:https://www.dmfund.org/events/annual-norouz-charity-bazaar/
LOCATION:Mt. Carmel High School\, 9550\, 9550 Carmel Mountain R\, San Diego\, CA\, 92129\, United States
CATEGORIES:Annual Charity Norouz Bazaar
ATTACH;FMTTYPE=image/jpeg:https://www.dmfund.org/wp-content/uploads/2022/03/Bazar-2-15-19-scaled.jpg
ORGANIZER;CN="Dollar a Month Fund":MAILTO:info@dmfund.org
END:VEVENT
END:VCALENDAR